BEGIN:VCALENDAR
VERSION:2.0
PRODID:-//宮崎市佐土原歴史資料館 - ECPv5.8.1//NONSGML v1.0//EN
CALSCALE:GREGORIAN
METHOD:PUBLISH
X-WR-CALNAME:宮崎市佐土原歴史資料館
X-ORIGINAL-URL:https://sadowararekishi.miyabunkyo.com
X-WR-CALDESC:宮崎市佐土原歴史資料館 のイベント
BEGIN:VTIMEZONE
TZID:Asia/Tokyo
BEGIN:STANDARD
TZOFFSETFROM:+0900
TZOFFSETTO:+0900
TZNAME:JST
DTSTART:20210101T000000
END:STANDARD
END:VTIMEZONE
BEGIN:VEVENT
DTSTART;TZID=Asia/Tokyo:20210613T100000
DTEND;TZID=Asia/Tokyo:20210613T120000
DTSTAMP:20260425T083807
CREATED:20210507T024943Z
LAST-MODIFIED:20210529T011038Z
UID:1528-1623578400-1623585600@sadowararekishi.miyabunkyo.com
SUMMARY:♦鶴松館で生け花体験
DESCRIPTION:※スマートフォンの場合、画面の向きを横にして頂くとご覧になりやすくなります \n＊＊＊＊＊ \n風情のある鶴松館大広間で生け花体験を行います。お子様やお友達とぜひご参加ください。 \n※受付を終了しました。 \n●日　時：令和３年６月１３日（日）１０：００～１２：００ ●対　象：小学生以上の子どもと保護者・一般 ●定　員：２０名 ●参加費：１名につき１\,０００円 ●集合場所：鶴松館 \n \nお申し込みについて\n\n\n\n●この講座は事前申込制となっております。 \n　♦申込期間：５月１３日（木）9:00～５月２２日（土）17:00　　　※お申し込みの方には、郵送にてご案内をお送りいたします。　　　※応募者多数の場合は抽選となります。 \n●参加ご希望の方は当ホームページの申し込みフォームか、お電話・FAXにてお申し込みください。 \n　※必ず住所・電話番号・お子様の場合は学年（年齢）をお知らせください。 　　メールフォームからのお申し込みの場合は受信可能なメールアドレスをご記入ください。 　　（当館より受付完了のメールを返信致します） 　　連絡がつかない場合、キャンセルとなる場合がございますので、ご了承ください。 \n●団体でのお申し込みはお断りしております。 \n ※上のメールフォーム記入例をご覧ください。 （入力漏れのないようにお願いします。） \n画像をクリックすると拡大します。
URL:https://sadowararekishi.miyabunkyo.com/tribe_events/%e9%b6%b4%e6%9d%be%e9%a4%a8%e3%81%a7%e7%94%9f%e3%81%91%e8%8a%b1%e4%bd%93%e9%a8%93/
END:VEVENT
END:VCALENDAR