BEGIN:VCALENDAR
VERSION:2.0
PRODID:-//宮崎市佐土原歴史資料館 - ECPv5.8.1//NONSGML v1.0//EN
CALSCALE:GREGORIAN
METHOD:PUBLISH
X-WR-CALNAME:宮崎市佐土原歴史資料館
X-ORIGINAL-URL:https://sadowararekishi.miyabunkyo.com
X-WR-CALDESC:宮崎市佐土原歴史資料館 のイベント
BEGIN:VTIMEZONE
TZID:Asia/Tokyo
BEGIN:STANDARD
TZOFFSETFROM:+0900
TZOFFSETTO:+0900
TZNAME:JST
DTSTART:20220101T000000
END:STANDARD
END:VTIMEZONE
BEGIN:VEVENT
DTSTART;VALUE=DATE:20220321
DTEND;VALUE=DATE:20220322
DTSTAMP:20260420T233317
CREATED:20220201T040939Z
LAST-MODIFIED:20220201T040939Z
UID:1939-1647820800-1647907199@sadowararekishi.miyabunkyo.com
SUMMARY:開館日
DESCRIPTION:※スマートフォンの場合は、横向きにして頂くとご覧になりやすくなります。 \n9：00～16：30が開館時間です。 \n最終入館は16：00となっております。 \n \nご来館に際して\n引き続き新型コロナウイルス感染拡大防止の対策のため、\n下についてご協力のほどよろしくお願いいたします。\n皆様には大変ご不便をおかけいたしますが、ご理解とご協力のほど、よろしくお願いいたします。 \n\n\n\n\n（1）来館の際の体調等について\n　息苦しさ、強いだるさ、高熱などの強い症状、もしくは発熱や咳などの\n　比較的軽い風邪症状がある方は入館をご遠慮ください。 \n（2）入館時の個人情報の記入について\n　万が一、入館後にウイルス感染が発覚した際の感染経路の把握のため、\n　記入用紙に氏名・住所・電話番号の記入をお願いします。 \n　※目的以外に使用することはありません。\n　※万が一、来館後体調が極端に悪化、新型コロナウイルス感染が発覚した場合には、\n　　当館までご連絡くださいますよう、お願いいたします。 \n（3）展示室等の利用制限について\n　①鶴松館の展示室「数奇屋」は閉鎖させて頂きます。\n　②密となる状況を防ぐため、利用人数制限等の対応をさせて頂く場合がございます。 \n（4）その他\n　①スタッフがマスクを着用して対応する場合がございます。\n　②消毒のため、開館時間中にスタッフが展示物等の拭き上げ作業を行うことがあります。\n　③イベントの中止につきましては、ホームページより最新情報をご確認ください。\n　④必要箇所に応じて、ソーシャルディスタンスを確保して対応させて頂く場合があります。\n　⑤今後、館の運営につきましては、感染状況をみて判断し、お知らせいたします。
URL:https://sadowararekishi.miyabunkyo.com/tribe_events/%e9%96%8b%e9%a4%a8%e6%97%a5-78/
END:VEVENT
END:VCALENDAR