BEGIN:VCALENDAR
VERSION:2.0
PRODID:-//宮崎市佐土原歴史資料館 - ECPv5.8.1//NONSGML v1.0//EN
CALSCALE:GREGORIAN
METHOD:PUBLISH
X-WR-CALNAME:宮崎市佐土原歴史資料館
X-ORIGINAL-URL:https://sadowararekishi.miyabunkyo.com
X-WR-CALDESC:宮崎市佐土原歴史資料館 のイベント
BEGIN:VTIMEZONE
TZID:Asia/Tokyo
BEGIN:STANDARD
TZOFFSETFROM:+0900
TZOFFSETTO:+0900
TZNAME:JST
DTSTART:20220101T000000
END:STANDARD
END:VTIMEZONE
BEGIN:VEVENT
DTSTART;VALUE=DATE:20220212
DTEND;VALUE=DATE:20220213
DTSTAMP:20260421T142918
CREATED:20220104T000746Z
LAST-MODIFIED:20220121T094022Z
UID:1876-1644624000-1644710399@sadowararekishi.miyabunkyo.com
SUMMARY:臨時休館
DESCRIPTION:宮崎市がまん延防止等重点措置の対象区域に指定されたことを受け、 新型コロナウイルス感染症の感染拡大防止のため、 \n１月２２日（土）～２月１３日（日）まで臨時休館いたします。 \n※次回の開館日は２月１９日（土）となります。 \n皆様にはご不便をお掛けいたしますが、なにとぞご理解とご協力をお願い申し上げます。 \n新たな情報につきましては、当ホームページにて随時お知らせいたします。
URL:https://sadowararekishi.miyabunkyo.com/tribe_events/%e9%96%8b%e9%a4%a8%e6%97%a5-65/
END:VEVENT
END:VCALENDAR