BEGIN:VCALENDAR
VERSION:2.0
PRODID:-//宮崎市佐土原歴史資料館 - ECPv5.8.1//NONSGML v1.0//EN
CALSCALE:GREGORIAN
METHOD:PUBLISH
X-WR-CALNAME:宮崎市佐土原歴史資料館
X-ORIGINAL-URL:https://sadowararekishi.miyabunkyo.com
X-WR-CALDESC:宮崎市佐土原歴史資料館 のイベント
BEGIN:VTIMEZONE
TZID:Asia/Tokyo
BEGIN:STANDARD
TZOFFSETFROM:+0900
TZOFFSETTO:+0900
TZNAME:JST
DTSTART:20170101T000000
END:STANDARD
END:VTIMEZONE
BEGIN:VEVENT
DTSTART;TZID=Asia/Tokyo:20171126T090000
DTEND;TZID=Asia/Tokyo:20171126T120000
DTSTAMP:20260425T130206
CREATED:20170927T003712Z
LAST-MODIFIED:20171101T030009Z
UID:953-1511686800-1511697600@sadowararekishi.miyabunkyo.com
SUMMARY:体験学習⑦　城下町散策
DESCRIPTION:佐土原城下をみんなで歩きながら巡ります。 \n日時：11月26日（日）　　　　9：00～12：00 \n対象：子どもと保護者・一般の方 \n定員：20名 \n料金：無料 \n集合場所：佐土原歴史資料館　鶴松館 \n申し込み：事前申込が必要です。電話、FAX、ホームページの申し込みフォームからお申込みください。 \n※申込先着順です。10/26（木）9：00から受付開始 \n　　　 \n【注】4月以降の電話・FAXでの申込みについては、お問合せ先が変更になりましたのでご注意ください。 \n【4月以降の申込み先】・・・みやざき歴史文化館 \nTEL：0985-39-6911　　　　FAX：0985-39-9297 \n 
URL:https://sadowararekishi.miyabunkyo.com/tribe_events/%e9%96%8b%e9%a4%a8%e6%97%a5-15/
END:VEVENT
END:VCALENDAR