BEGIN:VCALENDAR
VERSION:2.0
PRODID:-//宮崎市佐土原歴史資料館 - ECPv5.8.1//NONSGML v1.0//EN
CALSCALE:GREGORIAN
METHOD:PUBLISH
X-WR-CALNAME:宮崎市佐土原歴史資料館
X-ORIGINAL-URL:https://sadowararekishi.miyabunkyo.com
X-WR-CALDESC:宮崎市佐土原歴史資料館 のイベント
BEGIN:VTIMEZONE
TZID:Asia/Tokyo
BEGIN:STANDARD
TZOFFSETFROM:+0900
TZOFFSETTO:+0900
TZNAME:JST
DTSTART:20200101T000000
END:STANDARD
END:VTIMEZONE
BEGIN:VEVENT
DTSTART;TZID=Asia/Tokyo:20200305T080000
DTEND;TZID=Asia/Tokyo:20200331T170000
DTSTAMP:20260426T022849
CREATED:20200305T070226Z
LAST-MODIFIED:20200305T070226Z
UID:1289-1583395200-1585674000@sadowararekishi.miyabunkyo.com
SUMMARY:臨時休館
DESCRIPTION:臨時休館について \n　宮崎市佐土原歴史資料館は、新型コロナウイルスの感染拡大防止のため、、３月５日（木）から３月３１日（火）まで臨時休館とします。御理解のほどよろしくお願いします。 \n　なお、休館の間の続100名城のスタンプについては「宮崎市城の駅　佐土原いろは館」にて押印をお願いいたします。 \n新たな情報につきましては、当ホームページにて随時お知らせいたします。
URL:https://sadowararekishi.miyabunkyo.com/tribe_events/%e8%87%a8%e6%99%82%e4%bc%91%e9%a4%a8/
END:VEVENT
END:VCALENDAR