BEGIN:VCALENDAR
VERSION:2.0
PRODID:-//宮崎市佐土原歴史資料館 - ECPv5.8.1//NONSGML v1.0//EN
CALSCALE:GREGORIAN
METHOD:PUBLISH
X-WR-CALNAME:宮崎市佐土原歴史資料館
X-ORIGINAL-URL:https://sadowararekishi.miyabunkyo.com
X-WR-CALDESC:宮崎市佐土原歴史資料館 のイベント
BEGIN:VTIMEZONE
TZID:Asia/Tokyo
BEGIN:STANDARD
TZOFFSETFROM:+0900
TZOFFSETTO:+0900
TZNAME:JST
DTSTART:20220101T000000
END:STANDARD
END:VTIMEZONE
BEGIN:VEVENT
DTSTART;TZID=Asia/Tokyo:20220109T100000
DTEND;TZID=Asia/Tokyo:20220109T120000
DTSTAMP:20260421T143057
CREATED:20211126T030617Z
LAST-MODIFIED:20211221T055648Z
UID:1844-1641722400-1641729600@sadowararekishi.miyabunkyo.com
SUMMARY:◆第９回神代独楽回し大会
DESCRIPTION:※スマートフォンの場合、画面の向きを横にして頂くと　ご覧になりやすくなります \n＊＊＊＊＊＊＊＊＊＊＊＊＊＊＊＊＊＊＊＊＊＊＊＊＊＊＊＊＊＊   \n独特な音が鳴る佐土原の郷土玩具「神代独楽（じんだいごま）」！\nこの神代独楽が回っている時間で勝負をする大会を開催します。 \n●日時：令和４年１月９日（日）\n●時間：10:00～12:00\n●対象・定員：子どもの部１６名ほど・大人の部１６名ほど\n●参加費：無料\n●備考：※新型コロナウイルス感染症に関する状況によっては、　　　　　開催中止となる可能性があります。　　　　※神代独楽の持ち込みはできません。 \n＜お申込みについて＞\n※必ずページ下段の『各種講座へのお申し込みに関する注意』を　ご覧頂き、ご了承頂いた上でのお申込みをお願いします。 \n\n\n\n\n●この講座は抽選制となっております。 \n　①申込期間：１２月９日（木）9:00～１２月１８日（土）17:00　※１２月２５日（土）まで募集を延長します。 \n　②当落について：１２月２３日（木）以降にご連絡いたします。 \n●参加ご希望の方は当ホームページの申し込みフォームか、　お電話・FAXにてお申し込みください。 \n※必ず住所・電話番号・お子様の学年（年齢）をお知らせください。 \n※メールフォームからのお申し込みの場合は、　受信可能なメールアドレスをご記入ください。　当館よりエントリー受付完了のメールを返信致します。　もし、一両日中に受付完了のメールが届かない場合は、　お手数ですが、お電話にてお問い合わせください。　　 \n●団体でのお申し込みはお断りしております。 \n※上のメールフォーム記入例をご覧ください。（入力漏れのないようにお願いします。） \n画像をクリックすると拡大します。 \n\n\n\n\n各種講座へのお申し込みに関する注意\n各種講座へのお申込みに関する下の注意点を\nご覧いただいた上でのお申し込みをお願いいたします。 \n\n\n\n\n●事前申込制・抽選制の場合、ホームページのお申し込みフォームか、\n　直接お電話・FAXにてお申し込みください。 \n●開催１か月前の朝９時より受付しております。\n　→受付日午前９時以前のお申込みにつきましては、　　公平を期すため無効となります。 \n●子ども向けの体験学習の場合、必ず保護者同伴となります。 \n●団体でのお申し込みはご遠慮ください。\n　特に、体験学習の場合はご家族単位でお願いします。\n　 →お子様のお友達と参加希望の場合でも、　　それぞれご家族ごとにお申込みください。\n　 →抽選の場合、お子様のお友達同士のご家族ごとに\n　　お申し込みいただいても、落選する可能性があります。 \n●抽選制の場合、当ホームページ（カレンダー）上やお申し込みの際に\n　エントリー期間・当落発表方法についてお伝えしております。 \n●申込受付開始当日は、電話回線が込み合っている場合がございます。 \n●新型コロナウイルス感染症に関する状況や、天候等の事情により、　講座が中止または延期となる場合がございます。　その場合は、適時ホームページ上でお知らせいたします。
URL:https://sadowararekishi.miyabunkyo.com/tribe_events/%e7%ac%ac%ef%bc%99%e5%9b%9e%e7%a5%9e%e4%bb%a3%e7%8b%ac%e6%a5%bd%e5%9b%9e%e3%81%97%e5%a4%a7%e4%bc%9a/
CATEGORIES:イベント
END:VEVENT
END:VCALENDAR