BEGIN:VCALENDAR
VERSION:2.0
PRODID:-//宮崎市佐土原歴史資料館 - ECPv5.8.1//NONSGML v1.0//EN
CALSCALE:GREGORIAN
METHOD:PUBLISH
X-WR-CALNAME:宮崎市佐土原歴史資料館
X-ORIGINAL-URL:https://sadowararekishi.miyabunkyo.com
X-WR-CALDESC:宮崎市佐土原歴史資料館 のイベント
BEGIN:VTIMEZONE
TZID:Asia/Tokyo
BEGIN:STANDARD
TZOFFSETFROM:+0900
TZOFFSETTO:+0900
TZNAME:JST
DTSTART:20200101T000000
END:STANDARD
END:VTIMEZONE
BEGIN:VEVENT
DTSTART;TZID=Asia/Tokyo:20200105T080000
DTEND;TZID=Asia/Tokyo:20200105T170000
DTSTAMP:20260425T232240
CREATED:20191012T041516Z
LAST-MODIFIED:20191225T062915Z
UID:1253-1578211200-1578243600@sadowararekishi.miyabunkyo.com
SUMMARY:神代独楽回し大会
DESCRIPTION:佐土原の郷土玩具「神代独楽」を回す大会です。 \n神代独楽が回っている時間で勝負をします。 \n  \n●日時：令和２年１月５日（日）13:30～15:30　●集合場所：佐土原地区交流センター（鶴松館の道を挟んで向かい）　※車でお越しの際はは鶴松館の駐車場をご利用ください。●対象：子どもと保護者・一般●定員：３２名（各１６名）●参加費：無料 \n※神代独楽の持ち込みはできません。 \n＜お申込みについて＞\n\n\n\n\n●この講座は抽選制となっております。　随時受付中です！\n　　♦申込期間：１２月５日（木）9:00～１２月１４日（土）17:00 \n●参加ご希望の方は当ホームページの申し込みフォームか、直接お電話・FAXにてお申し込みください。 \n※必ず住所・電話番号をお知らせください。　メールフォームからのお申し込みの場合は受信可能なメールアドレスをご記入ください。（当館より受付完了のメールを返信致します）　連絡がつかない場合、キャンセルとなる場合がございますので、ご了承ください。 \n●団体でのお申し込みはお断りしております。 \n\n\n\n\n  \n【注】電話・FAXでの申込みについては、お問合せ先がみやざき歴史文化館となります。
URL:https://sadowararekishi.miyabunkyo.com/tribe_events/%e7%a5%9e%e4%bb%a3%e7%8b%ac%e6%a5%bd%e5%9b%9e%e3%81%97%e5%a4%a7%e4%bc%9a-4/
END:VEVENT
END:VCALENDAR