BEGIN:VCALENDAR
VERSION:2.0
PRODID:-//宮崎市佐土原歴史資料館 - ECPv5.8.1//NONSGML v1.0//EN
CALSCALE:GREGORIAN
METHOD:PUBLISH
X-WR-CALNAME:宮崎市佐土原歴史資料館
X-ORIGINAL-URL:https://sadowararekishi.miyabunkyo.com
X-WR-CALDESC:宮崎市佐土原歴史資料館 のイベント
BEGIN:VTIMEZONE
TZID:Asia/Tokyo
BEGIN:STANDARD
TZOFFSETFROM:+0900
TZOFFSETTO:+0900
TZNAME:JST
DTSTART:20160101T000000
END:STANDARD
END:VTIMEZONE
BEGIN:VEVENT
DTSTART;TZID=Asia/Tokyo:20161207T103000
DTEND;TZID=Asia/Tokyo:20161207T120000
DTSTAMP:20260424T120123
CREATED:20160731T061758Z
LAST-MODIFIED:20160731T061811Z
UID:690-1481106600-1481112000@sadowararekishi.miyabunkyo.com
SUMMARY:子どものための音楽会②
DESCRIPTION:
URL:https://sadowararekishi.miyabunkyo.com/tribe_events/%e5%ad%90%e3%81%a9%e3%82%82%e3%81%ae%e3%81%9f%e3%82%81%e3%81%ae%e9%9f%b3%e6%a5%bd%e4%bc%9a%e2%91%a1/
CATEGORIES:お知らせ
END:VEVENT
END:VCALENDAR