BEGIN:VCALENDAR
VERSION:2.0
PRODID:-//宮崎市佐土原歴史資料館 - ECPv5.8.1//NONSGML v1.0//EN
CALSCALE:GREGORIAN
METHOD:PUBLISH
X-WR-CALNAME:宮崎市佐土原歴史資料館
X-ORIGINAL-URL:https://sadowararekishi.miyabunkyo.com
X-WR-CALDESC:宮崎市佐土原歴史資料館 のイベント
BEGIN:VTIMEZONE
TZID:Asia/Tokyo
BEGIN:STANDARD
TZOFFSETFROM:+0900
TZOFFSETTO:+0900
TZNAME:JST
DTSTART:20200101T000000
END:STANDARD
END:VTIMEZONE
BEGIN:VEVENT
DTSTART;TZID=Asia/Tokyo:20200614T133000
DTEND;TZID=Asia/Tokyo:20200614T153000
DTSTAMP:20260426T092906
CREATED:20200418T013331Z
LAST-MODIFIED:20200418T022043Z
UID:1169-1592141400-1592148600@sadowararekishi.miyabunkyo.com
SUMMARY:和を楽しむ　生け花初体験
DESCRIPTION:鶴松館大広間で生け花体験を行います。お子様やお友達とぜひご参加ください。 \n \n  \n  \n  \n●日時：令和２年６月１４日（日）13:30～15:30●場所：宮崎市佐土原歴史資料館（鶴松館）●対象：子どもと保護者・一般●定員：２０名●参加費：１０００円 \n＜お申込みについて＞\n\n\n\n\n●この講座は事前申し込み制となっております。 \n♦申込期間：５月１4日（木）9:00～5月23日（土）17:00♦申し込み多数の場合は抽選となります。\n●参加ご希望の方は当ホームページの申し込みフォームか、直接お電話・FAXにてお申し込みください。 \n※必ず住所・電話番号をお知らせください。　メールフォームからのお申し込みの場合は受信可能なメールアドレスをご記入ください。（当館より受付完了のメールを返信致します）　連絡がつかない場合、キャンセルとなる場合がございますので、ご了承ください。 \n●団体でのお申し込みはお断りしております。 \n\n\n\n\n  \n【注】電話・FAXでの申込みについては、お問合せ先が生目の杜遊古館になります。 \n生目の杜遊古館TEL：0985-47-8001　　　　FAX：0985-47-8202 \n  \n 
URL:https://sadowararekishi.miyabunkyo.com/tribe_events/%e5%92%8c%e3%82%92%e6%a5%bd%e3%81%97%e3%82%80%e3%80%80%e7%94%9f%e3%81%91%e8%8a%b1%e5%88%9d%e4%bd%93%e9%a8%93/
END:VEVENT
END:VCALENDAR