BEGIN:VCALENDAR
VERSION:2.0
PRODID:-//宮崎市佐土原歴史資料館 - ECPv5.8.1//NONSGML v1.0//EN
CALSCALE:GREGORIAN
METHOD:PUBLISH
X-WR-CALNAME:宮崎市佐土原歴史資料館
X-ORIGINAL-URL:https://sadowararekishi.miyabunkyo.com
X-WR-CALDESC:宮崎市佐土原歴史資料館 のイベント
BEGIN:VTIMEZONE
TZID:Asia/Tokyo
BEGIN:STANDARD
TZOFFSETFROM:+0900
TZOFFSETTO:+0900
TZNAME:JST
DTSTART:20170101T000000
END:STANDARD
END:VTIMEZONE
BEGIN:VEVENT
DTSTART;TZID=Asia/Tokyo:20171015T100000
DTEND;TZID=Asia/Tokyo:20171015T120000
DTSTAMP:20260425T090915
CREATED:20170927T030449Z
LAST-MODIFIED:20170927T030449Z
UID:954-1508061600-1508068800@sadowararekishi.miyabunkyo.com
SUMMARY:体験学習⑤　うずら車の絵付け
DESCRIPTION:古くから親しまれているおもちゃ「うずら車」の絵付け体験を行います。 \n　　　日付：10月15日（日） \n　　　時間：10時～12時 \n　　　場所：佐土原出土文化財管理センター \n\n\n\n　　　対象：大人・子どもと保護者 \n　　　定員：25名　 \n　　　料金：300円 \n　　　申込方法：電話、FAX、お申込みフォーム 　　　　　　　   ※申込先着順です。9/15（金）9：00から受付開始 \n　　　 \n【注】4月以降の電話・FAXでの申込みについては、お問合せ先が変更になりましたのでご注意ください。 \n【4月以降の申込み先】・・・みやざき歴史文化館 \nTEL：0985-39-6911　　　　FAX：0985-39-9297
URL:https://sadowararekishi.miyabunkyo.com/tribe_events/%e4%bd%93%e9%a8%93%e5%ad%a6%e7%bf%92%e2%91%a4%e3%80%80%e3%81%86%e3%81%9a%e3%82%89%e8%bb%8a%e3%81%ae%e7%b5%b5%e4%bb%98%e3%81%91/
END:VEVENT
END:VCALENDAR