BEGIN:VCALENDAR
VERSION:2.0
PRODID:-//宮崎市佐土原歴史資料館 - ECPv5.8.1//NONSGML v1.0//EN
CALSCALE:GREGORIAN
METHOD:PUBLISH
X-WR-CALNAME:宮崎市佐土原歴史資料館
X-ORIGINAL-URL:https://sadowararekishi.miyabunkyo.com
X-WR-CALDESC:宮崎市佐土原歴史資料館 のイベント
BEGIN:VTIMEZONE
TZID:Asia/Tokyo
BEGIN:STANDARD
TZOFFSETFROM:+0900
TZOFFSETTO:+0900
TZNAME:JST
DTSTART:20190101T000000
END:STANDARD
END:VTIMEZONE
BEGIN:VEVENT
DTSTART;TZID=Asia/Tokyo:20191104T133000
DTEND;TZID=Asia/Tokyo:20191104T153000
DTSTAMP:20260425T200351
CREATED:20191004T003922Z
LAST-MODIFIED:20191031T005200Z
UID:1229-1572874200-1572881400@sadowararekishi.miyabunkyo.com
SUMMARY:佐土原人形の絵付け
DESCRIPTION:＜体験学習＞佐土原人形の絵付け\nこちらの体験学習は定員に達しましたので、募集を締め切らせていただきました。たくさんのご応募ありがとうございました。 \n\n佐土原人形への絵付け体験です。今回は縁起・干支の二種類からどちらか一つをお選びいただけます。 \n　　　日時：11月4日（日）　　　　　　　13時30分～15時30分 \n　　　料金：500円 \n　　　定員：20名（※多いときは抽選になります） \n　　 \n　　　 \n  \n当日のお問い合わせ先 \n【佐土原歴史資料館】　TEL：0985-74-1518
URL:https://sadowararekishi.miyabunkyo.com/tribe_events/%e4%bd%90%e5%9c%9f%e5%8e%9f%e4%ba%ba%e5%bd%a2%e3%81%ae%e7%b5%b5%e4%bb%98%e3%81%91/
END:VEVENT
END:VCALENDAR