BEGIN:VCALENDAR
VERSION:2.0
PRODID:-//宮崎市佐土原歴史資料館 - ECPv5.8.1//NONSGML v1.0//EN
CALSCALE:GREGORIAN
METHOD:PUBLISH
X-WR-CALNAME:宮崎市佐土原歴史資料館
X-ORIGINAL-URL:https://sadowararekishi.miyabunkyo.com
X-WR-CALDESC:宮崎市佐土原歴史資料館 のイベント
BEGIN:VTIMEZONE
TZID:Asia/Tokyo
BEGIN:STANDARD
TZOFFSETFROM:+0900
TZOFFSETTO:+0900
TZNAME:JST
DTSTART:20160101T000000
END:STANDARD
END:VTIMEZONE
BEGIN:VEVENT
DTSTART;TZID=Asia/Tokyo:20160206T090000
DTEND;TZID=Asia/Tokyo:20160320T163000
DTSTAMP:20260421T020710
CREATED:20151210T030714Z
LAST-MODIFIED:20151210T030714Z
UID:443-1454749200-1458491400@sadowararekishi.miyabunkyo.com
SUMMARY:企画展「ひな人形展」
DESCRIPTION:素朴な味わいが魅力の「佐土原人形」によるひな人形展です。 \nそのほか、昔の人々の暮らしを表した風俗人形や歌舞伎人形なども展示します。 \nぜひご来館ください！お待ちしております。 \n開催期間　2月6日（土）～3月20日（日） \n場所　商家資料館「旧阪本家」 \n時間　9：00～16：30（最終入館は16：00まで） \n入館料　無料 \n休館日　月曜および祝日の翌日・年末年始（12/28～1/4）
URL:https://sadowararekishi.miyabunkyo.com/tribe_events/%e4%bc%81%e7%94%bb%e5%b1%95%e3%80%8c%e3%81%b2%e3%81%aa%e4%ba%ba%e5%bd%a2%e5%b1%95%e3%80%8d/
LOCATION:商家資料館「旧阪本家」\, 宮崎市佐土原町上田島1601番地2\, 宮崎県\, 880-0301\, 日本
CATEGORIES:企画展
END:VEVENT
END:VCALENDAR