BEGIN:VCALENDAR
VERSION:2.0
PRODID:-//宮崎市佐土原歴史資料館 - ECPv5.8.1//NONSGML v1.0//EN
CALSCALE:GREGORIAN
METHOD:PUBLISH
X-WR-CALNAME:宮崎市佐土原歴史資料館
X-ORIGINAL-URL:https://sadowararekishi.miyabunkyo.com
X-WR-CALDESC:宮崎市佐土原歴史資料館 のイベント
BEGIN:VTIMEZONE
TZID:Asia/Tokyo
BEGIN:STANDARD
TZOFFSETFROM:+0900
TZOFFSETTO:+0900
TZNAME:JST
DTSTART:20220101T000000
END:STANDARD
END:VTIMEZONE
BEGIN:VEVENT
DTSTART;VALUE=DATE:20220515
DTEND;VALUE=DATE:20220516
DTSTAMP:20260424T095612
CREATED:20220523T004257Z
LAST-MODIFIED:20220523T004345Z
UID:2054-1652572800-1652659199@sadowararekishi.miyabunkyo.com
SUMMARY:◆パネル展「藩主の履歴書！」（～6/14）
DESCRIPTION:佐土原藩の歴代藩主について、それぞれの経歴や\nその代に起きた出来事などを履歴書風にパネルでご紹介いたします。\n気軽に佐土原の歴史に触れてみてください。 \n詳細についてはこちらをご覧ください。
URL:https://sadowararekishi.miyabunkyo.com/tribe_events/%e3%83%91%e3%83%8d%e3%83%ab%e5%b1%95%e3%80%8c%e8%97%a9%e4%b8%bb%e3%81%ae%e5%b1%a5%e6%ad%b4%e6%9b%b8%ef%bc%81%e3%80%8d/
CATEGORIES:企画展
END:VEVENT
END:VCALENDAR