BEGIN:VCALENDAR
VERSION:2.0
PRODID:-//宮崎市佐土原歴史資料館 - ECPv5.8.1//NONSGML v1.0//EN
CALSCALE:GREGORIAN
METHOD:PUBLISH
X-WR-CALNAME:宮崎市佐土原歴史資料館
X-ORIGINAL-URL:https://sadowararekishi.miyabunkyo.com
X-WR-CALDESC:宮崎市佐土原歴史資料館 のイベント
BEGIN:VTIMEZONE
TZID:Asia/Tokyo
BEGIN:STANDARD
TZOFFSETFROM:+0900
TZOFFSETTO:+0900
TZNAME:JST
DTSTART:20210101T000000
END:STANDARD
END:VTIMEZONE
BEGIN:VEVENT
DTSTART;TZID=Asia/Tokyo:20211114T100000
DTEND;TZID=Asia/Tokyo:20211114T120000
DTSTAMP:20260421T061030
CREATED:20211007T005808Z
LAST-MODIFIED:20211028T043055Z
UID:1772-1636884000-1636891200@sadowararekishi.miyabunkyo.com
SUMMARY:◆佐土原人形の絵付け
DESCRIPTION:※スマートフォンの場合、画面の向きを横にして頂くと\n　ご覧になりやすくなります \n＊＊＊＊＊＊＊＊＊＊＊＊＊＊＊＊＊＊＊＊＊＊＊＊＊＊＊＊＊＊ \n「佐土原人形」（ミニサイズ）の絵付け体験をしてみませんか？\n※干支人形の絵付けとなります。 \n※受付を終了しました。 \n●日時：令和３年１１月１４日（日）\n●時間：10:00～12:00\n●対象・定員：小学生以上の子どもと保護者・一般２０名\n●参加費：１個７００円\n●備考：※新型コロナウイルス感染症に関する状況によっては、\n　　　　　開催中止となる可能性があります。 \n \n＜お申込みについて＞\n※必ず下の募集期間・ご注意をご覧頂いてお申し込みください。 \n\n\n\n\n●この講座は抽選制となっております。 \n　①申込期間：１０月１４日（木）9:00～１０月２３日（土）17:00 \n　②当落について：１０月２８日（木）以降にご連絡いたします。 \n●参加ご希望の方は当ホームページの申し込みフォームか、\n　お電話・FAXにてお申し込みください。 \n※必ず住所・電話番号・お子様の学年（年齢）をお知らせください。 \n※メールフォームからのお申し込みの場合は、\n　受信可能なメールアドレスをご記入下さい。\n　当館よりエントリー受付完了のメールを返信致します。　返信メールが届かない場合は、お手数ですがお電話でご確認下さい。\n　連絡がつかない場合、キャンセルとなる場合がございますので、\n　ご了承ください。 \n●団体でのお申し込みはお断りしております。 \n\n※上のメールフォーム記入例をご覧ください。\n（入力漏れのないようにお願いします。） \n画像をクリックすると拡大します。
URL:https://sadowararekishi.miyabunkyo.com/tribe_events/%e2%97%86%e4%bd%90%e5%9c%9f%e5%8e%9f%e4%ba%ba%e5%bd%a2%e3%81%ae%e7%b5%b5%e4%bb%98%e3%81%91/
CATEGORIES:体験学習
END:VEVENT
END:VCALENDAR